BEGIN:VCALENDAR
VERSION:2.0
PRODID:icalendar-ruby
CALSCALE:GREGORIAN
METHOD:PUBLISH
BEGIN:VEVENT
DTSTAMP:20260421T202725Z
UID:35-732380@lonejackbaptist.org
DTSTART:20261217T003000Z
DTEND:20261217T030000Z
CLASS:PUBLIC
CREATED:20260421T140019
DESCRIPTION:In Depth Bible Study - Going through the Word verse by verse i
 n the order they were written.\n\nTeacher - Kirk Mann\, Elder\nMeets ever
 y Wednesday 6:30-8pm at the Church and online via Facebook\n
LAST-MODIFIED:20260421T140019
LOCATION:Lone Jack Baptist & Virtual
SUMMARY:In Depth Bible Study
URL;VALUE=URI:https://www.lonejackbaptist.org/events/in-depth-bible-study/2
 026-12-16
ATTACH;FILENAME=Bct0.jpg;FMTTYPE=image/jpeg:https://dq5pwpg1q8ru0.cloudfron
 t.net/2024/03/23/14/53/02/8e679a0a-16d6-449c-a34f-0e2caab87f55/Bct0.jpg
END:VEVENT
END:VCALENDAR
